BEGIN:VCALENDAR
VERSION:2.0
PRODID:-//Retruc - ECPv6.15.20//NONSGML v1.0//EN
CALSCALE:GREGORIAN
METHOD:PUBLISH
X-WR-CALNAME:Retruc
X-ORIGINAL-URL:https://retrucbcn.com
X-WR-CALDESC:Eventos para Retruc
REFRESH-INTERVAL;VALUE=DURATION:PT1H
X-Robots-Tag:noindex
X-PUBLISHED-TTL:PT1H
BEGIN:VTIMEZONE
TZID:Europe/Paris
BEGIN:DAYLIGHT
TZOFFSETFROM:+0100
TZOFFSETTO:+0200
TZNAME:CEST
DTSTART:20230326T010000
END:DAYLIGHT
BEGIN:STANDARD
TZOFFSETFROM:+0200
TZOFFSETTO:+0100
TZNAME:CET
DTSTART:20231029T010000
END:STANDARD
BEGIN:DAYLIGHT
TZOFFSETFROM:+0100
TZOFFSETTO:+0200
TZNAME:CEST
DTSTART:20240331T010000
END:DAYLIGHT
BEGIN:STANDARD
TZOFFSETFROM:+0200
TZOFFSETTO:+0100
TZNAME:CET
DTSTART:20241027T010000
END:STANDARD
BEGIN:DAYLIGHT
TZOFFSETFROM:+0100
TZOFFSETTO:+0200
TZNAME:CEST
DTSTART:20250330T010000
END:DAYLIGHT
BEGIN:STANDARD
TZOFFSETFROM:+0200
TZOFFSETTO:+0100
TZNAME:CET
DTSTART:20251026T010000
END:STANDARD
END:VTIMEZONE
BEGIN:VEVENT
DTSTART;TZID=Europe/Paris:20240416T210000
DTEND;TZID=Europe/Paris:20240416T230000
DTSTAMP:20260419T190943
CREATED:20240403T095351Z
LAST-MODIFIED:20240403T095351Z
UID:1408-1713301200-1713308400@retrucbcn.com
SUMMARY:BARÇA VS PSG (CHAMPIONS)
DESCRIPTION:Te esperamos en Oveja Negra para vivir la emoción del partido de Champions League entre el Barça vs PSG. Disfruta de una experiencia única\, llena de pasión futbolística en nuestro acogedor local.
URL:https://retrucbcn.com/evento/barca-vs-psg-champions/
LOCATION:Oveja Negra Ramblas\, Calle de Sitges\, 5\, Barcelona\, Barcelona\, 08001
CATEGORIES:Eventos televisivos deportivos
ORGANIZER;CN="Oveja Negra Ramblas":MAILTO:comunicacio@ovellanegra.com
END:VEVENT
BEGIN:VEVENT
DTSTART;TZID=Europe/Paris:20240413T210000
DTEND;TZID=Europe/Paris:20240413T230000
DTSTAMP:20260419T190943
CREATED:20240403T093223Z
LAST-MODIFIED:20240403T093223Z
UID:1395-1713042000-1713049200@retrucbcn.com
SUMMARY:CADIZ VS BARÇA (LIGA)
DESCRIPTION:¡La emoción de la Liga continúa en Oveja Negra! No te pierdas el vibrante partido entre Cadiz x Barça. Te invitamos a vivir cada momento de esta batalla futbolística en un ambiente lleno de pasión. ¡Únete a nosotros para una experiencia inolvidable!
URL:https://retrucbcn.com/evento/cadiz-vs-barca-liga/
LOCATION:Oveja Negra Ramblas\, Calle de Sitges\, 5\, Barcelona\, Barcelona\, 08001
CATEGORIES:Eventos televisivos deportivos
ORGANIZER;CN="Oveja Negra Ramblas":MAILTO:comunicacio@ovellanegra.com
END:VEVENT
BEGIN:VEVENT
DTSTART;TZID=Europe/Paris:20240410T210000
DTEND;TZID=Europe/Paris:20240410T230000
DTSTAMP:20260419T190943
CREATED:20240403T092445Z
LAST-MODIFIED:20240403T092445Z
UID:1393-1712782800-1712790000@retrucbcn.com
SUMMARY:PSG VS BARÇA (CHAMPIONS)
DESCRIPTION:Te esperamos en Oveja Negra para vivir la emoción del partido de Champions League entre el PSG y Barça. Disfruta de una experiencia única\, llena de pasión futbolística en nuestro acogedor local.
URL:https://retrucbcn.com/evento/psg-vs-barca-champions/
LOCATION:Oveja Negra Ramblas\, Calle de Sitges\, 5\, Barcelona\, Barcelona\, 08001
CATEGORIES:Eventos televisivos deportivos
END:VEVENT
BEGIN:VEVENT
DTSTART;TZID=Europe/Paris:20240409T210000
DTEND;TZID=Europe/Paris:20240409T230000
DTSTAMP:20260419T190943
CREATED:20240403T085316Z
LAST-MODIFIED:20240403T092842Z
UID:1375-1712696400-1712703600@retrucbcn.com
SUMMARY:REAL MADRID VS MANCHESTER (CHAMPIONS)
DESCRIPTION:Te esperamos en Oveja Negra para vivir la emoción del partido de Champions League entre el Real Madrid vs Manchester City. Disfruta de una experiencia única\, llena de pasión futbolística en nuestro acogedor local.
URL:https://retrucbcn.com/evento/real-madrid-vs-manchester-champions/
LOCATION:Oveja Negra Ramblas\, Calle de Sitges\, 5\, Barcelona\, Barcelona\, 08001
CATEGORIES:Eventos televisivos deportivos
ORGANIZER;CN="Oveja Negra Ramblas":MAILTO:comunicacio@ovellanegra.com
END:VEVENT
BEGIN:VEVENT
DTSTART;TZID=Europe/Paris:20240330T210000
DTEND;TZID=Europe/Paris:20240330T230000
DTSTAMP:20260419T190943
CREATED:20240311T113635Z
LAST-MODIFIED:20240311T113635Z
UID:1196-1711832400-1711839600@retrucbcn.com
SUMMARY:BARÇA VS U.D. LAS PALMAS
DESCRIPTION:¡La emoción de la Liga continúa en Oveja Negra! No te pierdas el vibrante partido entre Barça x U.D. Las Palmas. Te invitamos a vivir cada momento de esta batalla futbolística en un ambiente lleno de pasión. ¡Únete a nosotros para una experiencia inolvidable!
URL:https://retrucbcn.com/evento/barca-vs-u-d-las-palmas/
LOCATION:Oveja Negra Ramblas\, Calle de Sitges\, 5\, Barcelona\, Barcelona\, 08001
CATEGORIES:Eventos televisivos deportivos
END:VEVENT
BEGIN:VEVENT
DTSTART;TZID=Europe/Paris:20240317T210000
DTEND;TZID=Europe/Paris:20240317T230000
DTSTAMP:20260419T190943
CREATED:20240311T113504Z
LAST-MODIFIED:20240311T113504Z
UID:1193-1710709200-1710716400@retrucbcn.com
SUMMARY:ATLETICO DE MADRID VS BARÇA
DESCRIPTION:¡La emoción de la Liga continúa en Oveja Negra! No te pierdas el vibrante partido entre Atlético de Madrid x Barça. Te invitamos a vivir cada momento de esta batalla futbolística en un ambiente lleno de pasión. ¡Únete a nosotros para una experiencia inolvidable!
URL:https://retrucbcn.com/evento/atletico-de-madrid-vs-barca/
LOCATION:Oveja Negra Ramblas\, Calle de Sitges\, 5\, Barcelona\, Barcelona\, 08001
CATEGORIES:Eventos televisivos deportivos
END:VEVENT
BEGIN:VEVENT
DTSTART;TZID=Europe/Paris:20240312T210000
DTEND;TZID=Europe/Paris:20240312T230000
DTSTAMP:20260419T190943
CREATED:20240308T112925Z
LAST-MODIFIED:20240308T112925Z
UID:1166-1710277200-1710284400@retrucbcn.com
SUMMARY:Barça vs Napoli (Champions)
DESCRIPTION:¡La emoción de la Champions continúa en Oveja Negra! No te pierdas el vibrante partido entre Barça vs Napoli. Te invitamos a vivir cada momento de esta batalla futbolística en un ambiente lleno de pasión. ¡Únete a nosotros para una experiencia inolvidable!
URL:https://retrucbcn.com/evento/barca-vs-napoli-champions/
LOCATION:Oveja Negra Ramblas\, Calle de Sitges\, 5\, Barcelona\, Barcelona\, 08001
CATEGORIES:Eventos televisivos deportivos
ORGANIZER;CN="Oveja Negra Ramblas":MAILTO:comunicacio@ovellanegra.com
END:VEVENT
BEGIN:VEVENT
DTSTART;TZID=Europe/Paris:20240303T210000
DTEND;TZID=Europe/Paris:20240303T230000
DTSTAMP:20260419T190943
CREATED:20240306T083950Z
LAST-MODIFIED:20240403T090337Z
UID:1132-1709499600-1709506800@retrucbcn.com
SUMMARY:Athletic Club de Bilbao vs Barça
DESCRIPTION:¡La emoción de la Liga continúa en Oveja Negra! No te pierdas el vibrante partido entre Athletic Club de Bilbao vs Barça. Te invitamos a vivir cada momento de esta batalla futbolística en un ambiente lleno de pasión. ¡Únete a nosotros para una experiencia inolvidable!
URL:https://retrucbcn.com/evento/athletic-club-de-bilbao-vs-barca/
LOCATION:Oveja Negra Ramblas\, Calle de Sitges\, 5\, Barcelona\, Barcelona\, 08001
CATEGORIES:Eventos televisivos deportivos
ORGANIZER;CN="Oveja Negra Ramblas":MAILTO:comunicacio@ovellanegra.com
END:VEVENT
BEGIN:VEVENT
DTSTART;TZID=Europe/Paris:20240208T210000
DTEND;TZID=Europe/Paris:20240208T210000
DTSTAMP:20260419T190943
CREATED:20240117T141942Z
LAST-MODIFIED:20240308T112807Z
UID:864-1707426000-1707426000@retrucbcn.com
SUMMARY:Barça vs Mallorca (LIGA)
DESCRIPTION:¡La Liga continúa en Oveja Negra! No te pierdas el vibrante partido entre Barça vs Mallorca. Te invitamos a vivir cada momento de esta batalla futbolística en un ambiente lleno de pasión. ¡Únete a nosotros para una experiencia inolvidable!
URL:https://retrucbcn.com/evento/mercadillo-de-todo-a-1e/
LOCATION:Oveja Negra Ramblas\, Calle de Sitges\, 5\, Barcelona\, Barcelona\, 08001
CATEGORIES:Eventos televisivos deportivos
ORGANIZER;CN="Oveja Negra Ramblas":MAILTO:comunicacio@ovellanegra.com
END:VEVENT
END:VCALENDAR